BEGIN:VCALENDAR
VERSION:2.0
PRODID:-//Kappa Data - ECPv6.15.20//NONSGML v1.0//EN
CALSCALE:GREGORIAN
METHOD:PUBLISH
X-WR-CALNAME:Kappa Data
X-ORIGINAL-URL:https://www.kappadata.pl
X-WR-CALDESC:Wydarzenia dla Kappa Data
REFRESH-INTERVAL;VALUE=DURATION:PT1H
X-Robots-Tag:noindex
X-PUBLISHED-TTL:PT1H
BEGIN:VTIMEZONE
TZID:Europe/Paris
BEGIN:DAYLIGHT
TZOFFSETFROM:+0100
TZOFFSETTO:+0200
TZNAME:CEST
DTSTART:20250330T010000
END:DAYLIGHT
BEGIN:STANDARD
TZOFFSETFROM:+0200
TZOFFSETTO:+0100
TZNAME:CET
DTSTART:20251026T010000
END:STANDARD
BEGIN:DAYLIGHT
TZOFFSETFROM:+0100
TZOFFSETTO:+0200
TZNAME:CEST
DTSTART:20260329T010000
END:DAYLIGHT
BEGIN:STANDARD
TZOFFSETFROM:+0200
TZOFFSETTO:+0100
TZNAME:CET
DTSTART:20261025T010000
END:STANDARD
BEGIN:DAYLIGHT
TZOFFSETFROM:+0100
TZOFFSETTO:+0200
TZNAME:CEST
DTSTART:20270328T010000
END:DAYLIGHT
BEGIN:STANDARD
TZOFFSETFROM:+0200
TZOFFSETTO:+0100
TZNAME:CET
DTSTART:20271031T010000
END:STANDARD
END:VTIMEZONE
BEGIN:VEVENT
DTSTART;TZID=Europe/Paris:20260618T100000
DTEND;TZID=Europe/Paris:20260619T110000
DTSTAMP:20260421T114829
CREATED:20260212T144415Z
LAST-MODIFIED:20260408T090116Z
UID:18911-1781776800-1781866800@www.kappadata.pl
SUMMARY:Kappa Day konferencja IT i cyberbezpieczeństwa
DESCRIPTION:[vc_row css_animation=”” row_type=”row” use_row_as_full_screen_section=”no” type=”full_width” angled_section=”no” text_align=”left” background_image_as_pattern=”without_pattern”][vc_column][vc_empty_space][/vc_column][/vc_row][vc_row css_animation=”” row_type=”row” use_row_as_full_screen_section=”no” type=”full_width” angled_section=”no” text_align=”left” background_image_as_pattern=”without_pattern”][vc_column][vc_column_text css=””] \n\n\n\n\nKappa Day 2026 – konferencja IT i cyberbezpieczeństwa w Hotelu Belvedere w Zakopanem\nKappa Day to coroczne wydarzenie branżowe organizowane przez Kappa Data Polska – dystrybutora rozwiązań IT\, cyberbezpieczeństwa i IoT. W tym roku spotykamy się w  dniach 18-19 czerwca . To spotkanie dla aktualnych i potencjalnych partnerów Kappa Data z ekspertami naszych vendorów w wyjątkowej przestrzeni. \nW prezentacjach uczestniczyć mogą 2 osoby z firmy (techniczna i handlowa)\nZarezerwuj miejsce już dzisiaj!\n\n\n\n\n\n\n\n\n\n\n\n[/vc_column_text][vc_empty_space]\n			\n			\n		\n		\n					\n	[vc_column_text css=”.vc_custom_1775638862343{background-color: #4C6A36 !important;border-color: #4C6A36 !important;}”] \n\n\n\n\nAGENDA \nod 10:00 Rejestracja \n10:40 Powitanie \nPREZENTACJE BIZNESOWE – SALA GRABOWSKIEGO\n11:00 Ruckus Networks  \n11:40 Cato Networks \n12:10 Lancom Systems  \n12:50 ZPE Systems \n13:20 Coffee Break \n 13:50 Jumpcloud  \n14:20 runZero  \n14:50 Lunch + networking  \n15:40 OneSpan  \n16:10 Barracuda Networks  \n16:50 – 17:30 AccelTex | Ekahau \nPREZENTACJE TECHNICZNE – SALA PIŁSUDSKIEGO \n11:00 – 17:00 Warsztaty praktyczne | Networking | Demo na żywo | Spotkania 1:1 | Rozmowy projektowe | Współpraca partnerska \n\n\n\n\n\n\n19:30- PARTNER GET – TOGETHER EVENING\n\n\n\n\n[/vc_column_text][vc_empty_space][vc_single_image image=”19178″ img_size=”large” alignment=”center” style=”vc_box_shadow” onclick=”zoom” css=”” qode_css_animation=”” qode_hover_animation=”zoom_in”][vc_single_image image=”18936″ img_size=”large” alignment=”center” style=”vc_box_shadow” onclick=”zoom” css=”” qode_css_animation=”” qode_hover_animation=”zoom_in”][vc_empty_space][vc_column_text css=””] \n\n\n\n\n19.06\n\n\n\n\nDla chętnych górskich spacerów 19.06 zapraszamy na małą wyprawę: Dolina Białego → następnie w kierunku Drogi pod Reglami → odbicie na Dolinę ku Dziurze \n\n\n\n\n\n\n\n\n[/vc_column_text][vc_empty_space][vc_column_text css=””] \n\n\n\n\nUWAGA! Możliwość przedłużenia pobytu a atrakcyjnych cenach! \nKontakt: Hotel Belvedere Resort & Spa Zakopane  \nEMAIL: dkownatka@tmsspartaco.pl \nTEL.: +48 660 510 185 \nHASŁO: KAPPA DAY \n\n\n\n\n[/vc_column_text][vc_row_inner row_type=”row” type=”full_width” text_align=”left” css_animation=”” padding_top=”30″ padding_bottom=”30″][vc_column_inner][qode_elements_holder number_of_columns=”one_column” custom_class=”card”][qode_elements_holder_item vertical_alignment=”top” horizontal_alignment=”center” advanced_animations=”yes” start_position=”bottom” end_position=”center” item_padding=”50px 50px 50px 50px” background_color=”#ffffff”][vc_column_text][/vc_column_text][vc_separator css_animation=”left-to-right” type=”normal” gradient_color=”yes” color=”#83A46A”][vc_empty_space]\n	Uwaga: ta zawartość wymaga obsługi języka JavaScript.\n\n\n    \n\n\n        \n        \n                \n\n        \n\n        [vc_empty_space][vc_separator css_animation=”left-to-right” type=”normal” gradient_color=”yes” color=”#83A46A”]\n			\n			\n		\n		\n					\n	[vc_empty_space][/qode_elements_holder_item][/qode_elements_holder]\n			\n			\n		\n		\n					\n	[vc_single_image image=”18962″ img_size=”large” alignment=”center” style=”vc_box_shadow” onclick=”zoom” css=”” qode_css_animation=”” qode_hover_animation=”zoom_in”][vc_empty_space height=”40px”][vc_single_image image=”18923″ img_size=”large” alignment=”center” style=”vc_box_shadow” onclick=”zoom” css=”” qode_css_animation=”” qode_hover_animation=”zoom_in” title=”KAPPA DAY 2025″][/vc_column_inner][/vc_row_inner][vc_column_text css=””] \n\n\n\n\nZobacz więcej naszych wydarzeń\n\n\n\n\n[/vc_column_text][/vc_column][/vc_row][vc_row css_animation=”” row_type=”row” use_row_as_full_screen_section=”no” type=”full_width” angled_section=”no” text_align=”left” background_image_as_pattern=”without_pattern”][vc_column][/vc_column][/vc_row]
URL:https://www.kappadata.pl/event/kappa-day-konferencja-it-i-cyberbezpieczenstwa/
LOCATION:HOTEL BELVEDERE ZAKOPANE\, ul. Droga do Białego 3\, ZAKOPANE\, 34-500\, Poland
CATEGORIES:Event,Wydarzenie
ATTACH;FMTTYPE=image/jpeg:https://www.kappadata.pl/wp-content/uploads/2026/02/Kappa-Day-2026.jpeg
END:VEVENT
END:VCALENDAR