BEGIN:VCALENDAR
VERSION:2.0
PRODID:-//Kappa Data - ECPv6.15.20//NONSGML v1.0//EN
CALSCALE:GREGORIAN
METHOD:PUBLISH
X-ORIGINAL-URL:https://www.kappadata.pl
X-WR-CALDESC:Wydarzenia dla Kappa Data
REFRESH-INTERVAL;VALUE=DURATION:PT1H
X-Robots-Tag:noindex
X-PUBLISHED-TTL:PT1H
BEGIN:VTIMEZONE
TZID:Europe/Paris
BEGIN:DAYLIGHT
TZOFFSETFROM:+0100
TZOFFSETTO:+0200
TZNAME:CEST
DTSTART:20250330T010000
END:DAYLIGHT
BEGIN:STANDARD
TZOFFSETFROM:+0200
TZOFFSETTO:+0100
TZNAME:CET
DTSTART:20251026T010000
END:STANDARD
BEGIN:DAYLIGHT
TZOFFSETFROM:+0100
TZOFFSETTO:+0200
TZNAME:CEST
DTSTART:20260329T010000
END:DAYLIGHT
BEGIN:STANDARD
TZOFFSETFROM:+0200
TZOFFSETTO:+0100
TZNAME:CET
DTSTART:20261025T010000
END:STANDARD
BEGIN:DAYLIGHT
TZOFFSETFROM:+0100
TZOFFSETTO:+0200
TZNAME:CEST
DTSTART:20270328T010000
END:DAYLIGHT
BEGIN:STANDARD
TZOFFSETFROM:+0200
TZOFFSETTO:+0100
TZNAME:CET
DTSTART:20271031T010000
END:STANDARD
END:VTIMEZONE
BEGIN:VEVENT
DTSTART;TZID=Europe/Paris:20260514T100000
DTEND;TZID=Europe/Paris:20260514T160000
DTSTAMP:20260421T110944
CREATED:20260407T101052Z
LAST-MODIFIED:20260416T080220Z
UID:19358-1778752800-1778774400@www.kappadata.pl
SUMMARY:Ruckus Networks - Test Drive – Warsztaty Techniczne
DESCRIPTION:[vc_row css_animation=”” row_type=”row” use_row_as_full_screen_section=”no” type=”full_width” angled_section=”no” text_align=”left” background_image_as_pattern=”without_pattern”][vc_column][vc_column_text css=”.vc_custom_1775561433579{background-color: #f7f7f7 !important;}”] \n\n\n\n\n\n\n\n\n\n\n\n\n\n\n\n\n\n\nDołącz do praktycznych warsztatów Ruckus Test Drive i przetestuj  rozwiązania sieciowe klasy enterprise w rzeczywistym środowisku LAB. \nMiejsce: Warszawa: Studio Pół na Pół | FORT MOKOTÓW | Darmowy parking\nRUCKUS Test Drive to warsztaty techniczne skierowane do partnerów\, którzy chcą lepiej poznać rozwiązania sieciowe RUCKUS w praktyce. Spotkanie będzie koncentrować się na architekturze nowoczesnych sieci WLAN i LAN\, sposobie zarządzania infrastrukturą oraz funkcjach\, które mają realne znaczenie w projektach wdrożeniowych. \nAGENDA : \n10:00 Powitanie\, kawa i wprowadzenie\n10:10 Prezentacja rozwiązań Ruckus\n13:00 Lunch\n13:30 Sesja techniczna – Warsztaty hands-on Wireless Access Point\n16:00 Zakończenie \nPodczas warsztatów uczestnicy będą mogli przyjrzeć się bliżej podejściu RUCKUS do budowy wydajnych i stabilnych sieci bezprzewodowych\, mechanizmom optymalizacji pracy radiowej\, zarządzaniu infrastrukturą oraz integracji rozwiązań w środowiskach wymagających wysokiej niezawodności i skalowalności. To dobra okazja\, aby lepiej zrozumieć\, jak technologie RUCKUS sprawdzają się w praktycznych scenariuszach projektowych i na jakie elementy warto zwrócić uwagę podczas doboru rozwiązania do potrzeb klienta. \nPotrzebujesz więcej szczegółów – napisz do nas: mareting@kappadat.pl \nWarsztaty dla partnerów Kappa Data i ich klientów są bezpłatne. Wypełnij formularz poniżej (30 sek.) i dołącz do nas! \n\n\n\n\n\n\n\n\n\n\n\n\n\n\n\n\n\n\n[/vc_column_text][vc_empty_space height=”50px”][vc_empty_space height=”50px”][vc_column_text css=”.vc_custom_1776322438799{background-color: #f7f7f7 !important;}”] \n\n\n\n\n\n\n\n\n\n\n\n\n\n\n\n\n\n\nCo zyskujesz? \n\nPraktyczne poznanie rozwiązań RUCKUS Networks\nWiedzę przydatną w projektowaniu nowoczesnych sieci WLAN\nLepsze zrozumienie mechanizmów optymalizacji pracy Wi-Fi\nSzersze spojrzenie na zarządzanie i skalowanie infrastruktury\nBezpośredni kontakt z ekspertami RUCKUS\nJak działa Identity w R1 i jakie daje możliwości w zarządzaniu dostępem oraz politykami w sieci\n\nProwadzący: Sebastian Reluga – Ruckus Networks\, Marcin Kościesza – Kapa Data \nZapraszamy! \n\n\n\n\n\n\n\n\n\n\n\n\n\n\n\n\n\n\n[/vc_column_text][vc_empty_space height=”30px”]\n	Uwaga: ta zawartość wymaga obsługi języka JavaScript.\n\n\n    \n\n\n        \n        \n                \n\n        \n\n        [/vc_column][/vc_row]
URL:https://www.kappadata.pl/event/ruckus-networks-test-drive-warsztaty-techniczne/
LOCATION:Warszawa\, Poland
CATEGORIES:Event,Wydarzenie
ATTACH;FMTTYPE=image/png:https://www.kappadata.pl/wp-content/uploads/2026/04/Untitled-8-1.png
END:VEVENT
BEGIN:VEVENT
DTSTART;TZID=Europe/Paris:20260528T100000
DTEND;TZID=Europe/Paris:20260528T160000
DTSTAMP:20260421T110944
CREATED:20260421T061454Z
LAST-MODIFIED:20260421T073234Z
UID:19475-1779962400-1779984000@www.kappadata.pl
SUMMARY:Barracuda Networks WORKSHOP DAY
DESCRIPTION:[vc_row css_animation=”” row_type=”row” use_row_as_full_screen_section=”no” type=”full_width” angled_section=”no” text_align=”left” background_image_as_pattern=”without_pattern”][vc_column][vc_column_text css=”.vc_custom_1776756207679{background-color: #f7f7f7 !important;}”] \n\n\n\n\n\n\n\n\n\n\n\n\n\n\n\n\n\n\nWarsztaty techniczne | 28.05.2026\nZapraszamy na jednodniowe warsztaty techniczne Barracuda Workshop Day\, podczas których uczestnicy będą mogli przetestować najnowsze funkcjonalności systemu Barracuda CloudGen Firewall v10.5 na przygotowanych stanowiskach LAB. \nSpotkanie koncentruje się na realnych scenariuszach wdrożeniowych i administracyjnych. W programie znajdą się zagadnienia związane z bezpieczeństwem sieci\, zdalnym dostępem\, uwierzytelnianiem\, integracją z zewnętrznymi usługami tożsamości oraz ochroną zasobów w modelu Secure Edge i SASE. \n\n\n\n\n\n\n\n\nSpotkanie dla zarejestrowanych uczestników jest całkowicie bezpłatne. Na miejscu oprócz ciekawych warsztatów\, materiałów – zapewniamy kawę\, słodkości\, lunch oraz bezpłatny parking. \n\n\n\n\n\n\n\n\n\n\n\n\n\n\n\n\n\n\n\n\n\n\n\n\n\n[/vc_column_text][vc_empty_space height=”50px”][vc_empty_space height=”50px”][vc_column_text css=”.vc_custom_1776756749743{background-color: #f7f7f7 !important;}”] \n\n\n\n\n\n\n\n\n\n\n\n\n\n\n\n\n\n\nMiejsce: Warszawa\, Studio Pół na Pół\nAgenda\nGodziny: 10:00–16:00Lunch: 13:00 \nModuł I\n1. Nowości w Barracuda CloudGen Firewall v10.5Przegląd najnowszych funkcji i zmian w wersji 10.5. \n2. Zmiany i usprawnienia w obszarze Barracuda Campus oraz SupportLAB: aktywacja i konfiguracja przez uczestników środowiska virtual CGF lub hardware CGF. \n3. Zaawansowane bezpieczeństwo ATPDNS Protection\, Link Protection\, Anty-Spam\, Sandboxing.LAB: praktyczne wdrożenie funkcji podnoszących poziom bezpieczeństwa z wykorzystaniem Barracuda CGF. \n4. Barracuda Secure Edge / SASEKoncepcja ochrony zasobów niezależnie od ich lokalizacji.LAB: aktywacja portalu Secure Edge dla uczestników\, konfiguracja oraz integracja z CGF. \n5. Przed lunchem – kiedy XDR ma sens?Krótka perspektywa biznesowo – techniczna. \nModuł II\n6. Barracuda VPN – jak wdrożyć MFA / 2FA z wykorzystaniem CGFLAB: aktywacja usług MFA / 2FA w oparciu o CGF lic. ARA. \n7. Integracja Barracuda CGF z zewnętrznymi bazami uwierzytelnianiaLAB: integracja z Microsoft AD\, Microsoft Entra ID oraz SAML. \n8. Secure Edge / SASE – możliwości integracji z CGF oraz charakterystyka urządzeń serii T\nLAB: konfiguracja Secure Agent oraz zdalnego dostępu ZTNA. \n9. Secure Edge / SASE – praktyczne zarządzanie ruchem i konfiguracja środowiskaLAB: praktyczne konfiguracje i zarządzanie ruchem w środowisku Secure Edge SASE. \n10. Podsumowanie wydarzeniaZakończenie warsztatów oraz przekazanie danych dostępowych do środowisk testowych. \nNa koniec\nTwój firewall nie śpi. Ale kto analizuje jego alerty o 3 nad ranem? \nNa zakończenie pokażemy także\, jak do tego tematu podchodzi Managed XDR od Barracuda.Osoby zainteresowane tym obszarem jako pierwsze mają miejsce w kolejnych warsztatach poświęconych rozwiązaniu Barracuda Managed XDR. \n\n\n\n\n\n\n\n\n\n\n\n\n\n\n\n\n\n\n[/vc_column_text][vc_empty_space height=”30px”]\n	Uwaga: ta zawartość wymaga obsługi języka JavaScript.\n\n\n    \n\n\n        \n        \n                \n\n        \n\n        [/vc_column][/vc_row]
URL:https://www.kappadata.pl/event/barracuda-networks-workshop-day/
LOCATION:Warszawa\, Poland
CATEGORIES:Event,Wydarzenie
ATTACH;FMTTYPE=image/png:https://www.kappadata.pl/wp-content/uploads/2026/04/Barracuda-workshop.png
END:VEVENT
END:VCALENDAR