BEGIN:VCALENDAR
VERSION:2.0
PRODID:-//Kappa Data - ECPv6.15.20//NONSGML v1.0//EN
CALSCALE:GREGORIAN
METHOD:PUBLISH
X-ORIGINAL-URL:https://www.kappadata.pl
X-WR-CALDESC:Wydarzenia dla Kappa Data
REFRESH-INTERVAL;VALUE=DURATION:PT1H
X-Robots-Tag:noindex
X-PUBLISHED-TTL:PT1H
BEGIN:VTIMEZONE
TZID:Europe/Paris
BEGIN:DAYLIGHT
TZOFFSETFROM:+0100
TZOFFSETTO:+0200
TZNAME:CEST
DTSTART:20230326T010000
END:DAYLIGHT
BEGIN:STANDARD
TZOFFSETFROM:+0200
TZOFFSETTO:+0100
TZNAME:CET
DTSTART:20231029T010000
END:STANDARD
BEGIN:DAYLIGHT
TZOFFSETFROM:+0100
TZOFFSETTO:+0200
TZNAME:CEST
DTSTART:20240331T010000
END:DAYLIGHT
BEGIN:STANDARD
TZOFFSETFROM:+0200
TZOFFSETTO:+0100
TZNAME:CET
DTSTART:20241027T010000
END:STANDARD
BEGIN:DAYLIGHT
TZOFFSETFROM:+0100
TZOFFSETTO:+0200
TZNAME:CEST
DTSTART:20250330T010000
END:DAYLIGHT
BEGIN:STANDARD
TZOFFSETFROM:+0200
TZOFFSETTO:+0100
TZNAME:CET
DTSTART:20251026T010000
END:STANDARD
BEGIN:DAYLIGHT
TZOFFSETFROM:+0100
TZOFFSETTO:+0200
TZNAME:CEST
DTSTART:20260329T010000
END:DAYLIGHT
BEGIN:STANDARD
TZOFFSETFROM:+0200
TZOFFSETTO:+0100
TZNAME:CET
DTSTART:20261025T010000
END:STANDARD
BEGIN:DAYLIGHT
TZOFFSETFROM:+0100
TZOFFSETTO:+0200
TZNAME:CEST
DTSTART:20270328T010000
END:DAYLIGHT
BEGIN:STANDARD
TZOFFSETFROM:+0200
TZOFFSETTO:+0100
TZNAME:CET
DTSTART:20271031T010000
END:STANDARD
END:VTIMEZONE
BEGIN:VEVENT
DTSTART;TZID=Europe/Paris:20260320T100000
DTEND;TZID=Europe/Paris:20260320T160000
DTSTAMP:20260423T104726
CREATED:20260127T073759Z
LAST-MODIFIED:20260313T134617Z
UID:18811-1774000800-1774022400@www.kappadata.pl
SUMMARY:Lancom Systems - Test Drive – Warsztaty Techniczne
DESCRIPTION:[vc_row css_animation=”” row_type=”row” use_row_as_full_screen_section=”no” type=”full_width” angled_section=”no” text_align=”left” background_image_as_pattern=”without_pattern”][vc_column][vc_column_text css=”.vc_custom_1773409570779{background-color: #f7f7f7 !important;}”] \n\n\n\n\n\n\n\n\n\n\n\n\n\n\n\n\n\n\nDołącz do praktycznych warsztatów LANCOM Test Drive i przetestuj europejskie rozwiązania sieciowe klasy enterprise w rzeczywistym środowisku LAB. \nBrak wolnych miejsc – napisz do nas jeśli chcesz wziąć udział w przyszłych edycjach!\nMiejsce: Warszawa: Studio Pół na Pół | FORT MOKOTÓW | Darmowy parking\nPodczas intensywnego dnia technicznego poznasz możliwości LANCOM Management Cloud (LMC) oraz platformy LCOS – fundamentu bezpiecznej architektury „Made in Europe” z gwarancją „0 BackDoors”.\nW trakcie spotkania mamy dla Was dobry obiad\, kawę i przekąski. \nWarsztaty pokażą\, jak budować i zarządzać infrastrukturą zgodną z wymaganiami regulacji NIS2\, wykorzystując zautomatyzowane mechanizmy SD-Branch: \n\nSD-WAN / Auto-VPN\nSD-LAN\nSD-WiFi (Active Radio Control 2.0)\nSD-Security\n\nPracujesz na realnych scenariuszach – konfigurujesz\, testujesz i weryfikujesz działanie rozwiązań w praktyce. \nDla kogo?Inżynierowie sieciowi\, architekci systemów\, administratorzy IT\, presales.\nAGENDA\nModuł I – Fundamenty architektury LANCOM\nZakres: \n\nEuropejskie rozwiązania LAN\, NGFW\, WAN\, VPN\, WiFi\nCharakterystyka urządzeń LANCOM – zarządzanie i monitoring\nLCOS – własnościowy system operacyjny z architekturą „0 BackDoors”\nWprowadzenie do LMC – centralne zarządzanie infrastrukturą\n\nLAB 1:Dostęp do indywidualnych środowisk LMC\, onboardowanie i konfiguracja urządzeń LANCOM. \nModuł II – LANCOM Management Cloud i SD-WiFi\nZakres: \n\nArchitektura LMC i zarządzanie projektami\nPlanowanie i automatyzacja sieci WiFi\nActive Radio Control 2.0\nHotSpot\, monitoring\, analiza wydajności\n\nLAB 2:Konfiguracja podsieci\, DHCP/DNS\, VLAN\, WiFi\, HotSpot oraz testy działania. \n  \n\n\n\n\n\n\n\n\n\n\n\n\n\n\n\n\n\n\n\n[/vc_column_text][vc_empty_space height=”50px”][vc_separator css_animation=”fadeInRightBig” type=”normal”][vc_empty_space height=”50px”][vc_column_text css=”.vc_custom_1772179451370{background-color: #f7f7f7 !important;}”] \n\n\n\n\n\n\n\n\n\n\n\n\n\n\n\n\n\n\nModuł III – Routery\, SD-WAN i VPN\nZakres: \n\nPortfolio routerów LANCOM – scenariusze zastosowań\nAuto-VPN Site-to-Site\nSD-WAN i routing\nFirewall i polityki bezpieczeństwa\nZabezpieczony dostęp zdalny: VPN\, MFA/2FA\, ZTNA\, WireGuard\n\nLAB 3:Konfiguracja gateway\, VPN Site-to-Site\, Remote Access VPN oraz testy połączeń. \nModuł IV – Architektura LAN i przełączniki\nZakres: \n\nProjektowanie sieci: Core / Distribution / Aggregation / Access\nSegmentacja i mikrosegmentacja\nArchitektury ringu i wysokiej dostępności\n\nLAB 4:Konfiguracja klastra switchy\, agregacja portów (LACP)\, topologie ringu. \nModuł V – Next Gen Firewalls LANCOM R&S UF Series\nZakres: \n\nArchitektura Unified Firewall i oprogramowanie FX\nKonfiguracja WEB-GUI w trybie graficznej mapy tworzenia reguł\nLMC SD-SECURITY:\nIPS\nApplication Control\nATP\nAntywirus\nRemote VPN\n\nLAB 5:Praktyczne przykłady konfiguracji zabezpieczeń na urządzeniu LANCOM R&S UF-560. \nCo zyskujesz?\n\nPraktyczne doświadczenie pracy w LMC\nGotowe scenariusze wdrożeniowe\nWiedzę w zakresie architektury zgodnej z NIS2\nUmiejętność projektowania środowiska SD-Branch\nBezpośredni kontakt z ekspertami LANCOM\n\n\n\n\n\n\n\n\n\n\n\n\n\n\n\n\n\n\n\n\n[/vc_column_text]\n	Uwaga: ta zawartość wymaga obsługi języka JavaScript.\n\n\n    \n\n\n        \n        \n                \n\n        \n\n        [vc_empty_space height=”30px”][/vc_column][vc_column][/vc_column][/vc_row][vc_row css_animation=”” row_type=”row” use_row_as_full_screen_section=”no” type=”full_width” angled_section=”no” text_align=”left” background_image_as_pattern=”without_pattern”][vc_column][vc_empty_space][/vc_column][/vc_row][vc_row css_animation=”” row_type=”row” use_row_as_full_screen_section=”no” type=”full_width” angled_section=”no” text_align=”left” background_image_as_pattern=”without_pattern”][vc_column][/vc_column][/vc_row][vc_row css_animation=”” row_type=”row” use_row_as_full_screen_section=”no” type=”full_width” angled_section=”no” text_align=”left” background_image_as_pattern=”without_pattern”][vc_column][vc_separator type=”normal”][/vc_column][/vc_row]
URL:https://www.kappadata.pl/event/lancom-systems-test-drive-warsztaty-techniczne/
LOCATION:Warszawa\, Poland
CATEGORIES:Event,Wydarzenie
ATTACH;FMTTYPE=image/png:https://www.kappadata.pl/wp-content/uploads/2026/01/lancom-warsztaty-test-drive.png
END:VEVENT
BEGIN:VEVENT
DTSTART;TZID=Europe/Paris:20251023T090000
DTEND;TZID=Europe/Paris:20251024T110000
DTSTAMP:20260423T104726
CREATED:20250515T115636Z
LAST-MODIFIED:20251030T120149Z
UID:16131-1761210000-1761303600@www.kappadata.pl
SUMMARY:Kappa Day konferencja IT i cyberbezpieczeństwa
DESCRIPTION:[vc_row css_animation=”” row_type=”row” use_row_as_full_screen_section=”no” type=”full_width” angled_section=”no” text_align=”left” background_image_as_pattern=”without_pattern”][vc_column][vc_empty_space][/vc_column][/vc_row][vc_row css_animation=”” row_type=”row” use_row_as_full_screen_section=”no” type=”full_width” angled_section=”no” text_align=”left” background_image_as_pattern=”without_pattern”][vc_column]\n			\n			\n		\n		\n					\n	[vc_empty_space][vc_row_inner row_type=”row” type=”full_width” text_align=”left” css_animation=”” padding_top=”30″ padding_bottom=”30″][vc_column_inner][vc_single_image image=”18141″ img_size=”large” alignment=”center” style=”vc_box_shadow” onclick=”zoom” css=”” qode_css_animation=”” qode_hover_animation=”zoom_in”][vc_empty_space]\n	Uwaga: ta zawartość wymaga obsługi języka JavaScript.\n\n\n    \n\n\n        \n        \n                \n\n        \n\n        [qode_elements_holder number_of_columns=”one_column” custom_class=”card”][qode_elements_holder_item vertical_alignment=”top” horizontal_alignment=”center” advanced_animations=”yes” start_position=”bottom” end_position=”center” item_padding=”50px 50px 50px 50px” background_color=”#ffffff”][vc_column_text][/vc_column_text][vc_column_text css=””] \n\n\n\n\nKappa Day 2025 – konferencja IT i cyberbezpieczeństwa w Pałacu Mała Wieś pod Warszawą\nKappa Day 2025 to coroczne wydarzenie branżowe organizowane przez Kappa Data Polska – dystrybutora rozwiązań IT\, cyberbezpieczeństwa i IoT. W dniach 23–24 października 2025 spotkamy się z partnerami\, integratorami i ekspertami w wyjątkowej przestrzeni. \nW tym roku zapraszamy do zabytkowego Pałacu Mała Wieś\, położonego zaledwie 45 kilometrów od Warszawy. To miejsce\, w którym historia spotyka się z nowoczesnością – idealne do rozmów o przyszłości technologii\, wymiany doświadczeń oraz budowania relacji w branży IT i cyberbezpieczeństwa. \nJeśli jesteś partnerem Kappa Data lub chcesz nim zostać – zapisz się. Porozmawiajmy o rozwiązaniach dla Twojej firmy.\n\n\n\n\n[/vc_column_text][vc_single_image image=”18036″ img_size=”large” alignment=”center” style=”vc_box_shadow” onclick=”zoom” css=”” qode_css_animation=”” qode_hover_animation=”zoom_in”][/qode_elements_holder_item][/qode_elements_holder][vc_empty_space height=”40px”][qode_elements_holder number_of_columns=”one_column” custom_class=”card”][qode_elements_holder_item vertical_alignment=”top” horizontal_alignment=”center” advanced_animations=”yes” start_position=”bottom” end_position=”center” item_padding=”50px 50px 50px 50px” background_color=”#F4F3EE”][vc_column_text][/vc_column_text][vc_column_text css=””] \n\n\n\n\nPATRONI WYDARZENIA | Goście specjalni \n\n\n\n\n[/vc_column_text]\n			\n			\n		\n		\n							\n				John F. Hall - przez 24 lata pracował w NASA\, obecnie jest ekspertem Polskiej Agencji Kosmicznej			 \n			\n	[vc_empty_space height=”40px”][vc_column_text css=””] \n\n\n\n\nPiotr Stopczyński – Jeden z najwybitniejszych polskich enologów\nKarolina Wołoszyn i Ewelina Antonowicz –  Fundacja IT Girls\nKrzysztof Białecki – SIT – Stowarzyszenie Inżynierów Telekomunikacji \n\n\n\n\n\n[/vc_column_text][/qode_elements_holder_item][/qode_elements_holder]\n	Uwaga: ta zawartość wymaga obsługi języka JavaScript.\n\n\n    \n\n\n        \n        \n                \n\n        \n\n        [/vc_column_inner][/vc_row_inner][/vc_column][/vc_row]
URL:https://www.kappadata.pl/event/kappa-day-2025/
LOCATION:Pałac Mała Wieś\, Mała Wieś 40\, Belsk Duży\, Poland
CATEGORIES:Event,Wydarzenie
ATTACH;FMTTYPE=image/jpeg:https://www.kappadata.pl/wp-content/uploads/2025/05/HOTEL-BINKOWSKI-43.jpg
END:VEVENT
BEGIN:VEVENT
DTSTART;TZID=Europe/Paris:20241029T110000
DTEND;TZID=Europe/Paris:20241030T133000
DTSTAMP:20260423T104726
CREATED:20240805T113348Z
LAST-MODIFIED:20241024T114655Z
UID:12958-1730199600-1730295000@www.kappadata.pl
SUMMARY:KAPPA DAY 2024
DESCRIPTION:[vc_row css_animation=”” row_type=”row” use_row_as_full_screen_section=”no” type=”full_width” angled_section=”no” text_align=”left” background_image_as_pattern=”without_pattern”][vc_column][vc_single_image image=”13980″ qode_css_animation=””]AGENDA KAPPA DAYAGENDA KAPPA DAY[vc_row_inner row_type=”row” type=”full_width” text_align=”left” css_animation=”” padding_top=”30″ padding_bottom=”30″][vc_column_inner][qode_elements_holder number_of_columns=”one_column” custom_class=”card”][qode_elements_holder_item vertical_alignment=”top” horizontal_alignment=”center” advanced_animations=”yes” start_position=”bottom” end_position=”center” item_padding=”50px 50px 50px 50px” background_color=”#ebefe8″][vc_column_text][/vc_column_text][vc_column_text] \n\n\n\n\nKAPPA DAY 29-30 października 2024 \nWydarzenie organizowane przez Kappa Data Polska\, dystrybutora VAD w dziedzinie dystrybucji rozwiązań IT\, bezpieczeństwa i IoT. \nKappa Day 2024 to wyjątkowe spotkanie\, które zgromadzi w jednym miejscu HOTEL BINKOWSKI KIELCE: producentów\, handlowców\, osoby techniczne oraz ekspertów z branży IT. To idealna okazja\, aby spotkać się z producentami i zapoznać się z najnowszymi rozwiązaniami technologicznymi prezentowanymi podczas warsztatów. \nW tym roku po raz pierwszy Kappa Day to dwudniowy event\, który odbędzie się w dniach 29-30 października 2024 roku w Kielcach\, w Hotelu Binkowski. \n29 października to także Światowy Dzień Bezpiecznego Internetu na świecie\, co podkreśla charakter imprezy. \nPodczas wieczornej gali\, wyróżnimy najciekawsze projekty 2024 roku. \nAtrakcje i dobra atmosfera \nBinkowski Hotel to miejsce\, w którym natura przeplata się z elegancją i nowoczesnością. 4-gwiazdkowy resort położony jest w sercu Gór Świętokrzyskich oferuje enklawę relaksu i spokoju w Basenach Tropikalnych oraz strefie SPA. Wyjątkową lokalizację Hotelu Binkowski gwarantuje położenie w środku lasu\, na obrzeżach Kielc\, z dala od miejskiego zgiełku. Parking na terenie obiektu jest dla naszych gości bezpłatny. Przewidujemy również dodatkowe atrakcje wieczoru. \nZAREJESTRUJ SIĘ W FORMULARZU PONIŻEJ\nUdział w dwudniowym wydarzeniu jest bezpłatny (ilość miejsc bezpłatnych jest ograniczona). \n\n\n\n\n[/vc_column_text][vc_empty_space height=”50px”][/qode_elements_holder_item][/qode_elements_holder][/vc_column_inner][/vc_row_inner][vc_empty_space height=”50px”][qode_elements_holder number_of_columns=”one_column”][qode_elements_holder_item advanced_animations=”no”][vc_empty_space][/qode_elements_holder_item][/qode_elements_holder][/vc_column][/vc_row][vc_row css_animation=”” row_type=”row” use_row_as_full_screen_section=”no” type=”full_width” angled_section=”no” text_align=”left” background_image_as_pattern=”without_pattern”][vc_column]\n	Uwaga: ta zawartość wymaga obsługi języka JavaScript.\n\n\n    \n\n\n        \n        \n                \n\n        \n\n        [vc_empty_space][/vc_column][/vc_row][vc_row css_animation=”” row_type=”row” use_row_as_full_screen_section=”no” type=”full_width” angled_section=”no” text_align=”left” background_image_as_pattern=”without_pattern”][vc_column][vc_gmaps link=”#E-8_JTNDaWZyYW1lJTIwc3JjJTNEJTIyaHR0cHMlM0ElMkYlMkZ3d3cuZ29vZ2xlLmNvbSUyRm1hcHMlMkZlbWJlZCUzRnBiJTNEJTIxMW0xNCUyMTFtOCUyMTFtMyUyMTFkMTc4MS4wMzk2MTkxOTQ4MDclMjEyZDIwLjYwNzEwNDg0OTIxOTg3JTIxM2Q1MC44NTM5MzYxMzc5MzE1OCUyMTNtMiUyMTFpMTAyNCUyMTJpNzY4JTIxNGYxMy4xJTIxM20zJTIxMW0yJTIxMXMweDQ3MTc4ODIyMDgxNzYwM2QlMjUzQTB4ZDFiZDE4MzkyZjQ3MzFjYSUyMTJzQmlua293c2tpJTI1MjBIb3RlbCUyMTVlMCUyMTNtMiUyMTFzcGwlMjEyc3BsJTIxNHYxNzI0NzU3MDQyOTA5JTIxNW0yJTIxMXNwbCUyMTJzcGwlMjIlMjB3aWR0aCUzRCUyMjYwMCUyMiUyMGhlaWdodCUzRCUyMjQ1MCUyMiUyMHN0eWxlJTNEJTIyYm9yZGVyJTNBMCUzQiUyMiUyMGFsbG93ZnVsbHNjcmVlbiUzRCUyMiUyMiUyMGxvYWRpbmclM0QlMjJsYXp5JTIyJTIwcmVmZXJyZXJwb2xpY3klM0QlMjJuby1yZWZlcnJlci13aGVuLWRvd25ncmFkZSUyMiUyMHdpZHRoJTNEJTIyNjAwJTIyJTIwaGVpZ2h0JTNEJTIyNDUwJTIyJTIwZnJhbWVib3JkZXIlM0QlMjIwJTIyJTIwc3R5bGUlM0QlMjJib3JkZXIlM0EwJTIyJTIwYWxsb3dmdWxsc2NyZWVuJTNFJTNDJTJGaWZyYW1lJTNF”][/vc_column][/vc_row][vc_row css_animation=”” row_type=”row” use_row_as_full_screen_section=”no” type=”full_width” angled_section=”no” text_align=”left” background_image_as_pattern=”without_pattern”][vc_column][/vc_column][/vc_row]
URL:https://www.kappadata.pl/event/kappa-day-2024/
LOCATION:Binkowski Resort\, Restauracja Karolina Park Ul. Solińska 3/9\, Rzeszów\, Podkarpackie\, 35-505\, Poland
CATEGORIES:Event,Wydarzenie
ATTACH;FMTTYPE=image/jpeg:https://www.kappadata.pl/wp-content/uploads/2024/08/HOTEL-BINKOWSKI-1.jpg
END:VEVENT
END:VCALENDAR